BEGIN:VCALENDAR
METHOD:PUBLISH
PRODID:Data::ICal 0.13
VERSION:2.0
BEGIN:VEVENT
DESCRIPTION:Women&#039;s Empowerment 2026\n\n&nbsp;\n\nRadio One Raleigh is proud to announce the highly anticipated return of its legendary Women’s Empowerment event, a tradition that for decades has celebrated the influence, resilience, and power of African American women. The 2026 edition will take place on Saturday, March 21, 2026, at the Lenovo Center in Raleigh, N.C.\n\nThis iconic event returns with the same energy and inspiration that women across the Triangle and beyond have come to expect — featuring a full day of dynamic panels, thought-provoking speakers, and interactive activations designed to educate, uplift, and empower.\n\nThe celebration will culminate with an unforgettable evening concert: The R&amp;B Lovers Tour — bringing together an extraordinary lineup of legends on one stage, one night only: Keith Sweat, Joe, Dru Hill, and Ginuwine.\n\nTicket presale for Women’s Empowerment 2026 begins Monday, Sept. 29, with special code RBL26. General ticket sales begin Friday, October 1st at 10 a.m. exclusively at Ticketmaster.com.
DTSTAMP:20260421T103335Z
DTSTART;TZID=America/New_York:19700101T000000
DTEND;TZID=America/New_York:19700101T000000
LOCATION:1400 Edwards Mill Road\, Raleigh\, North Carolina\, 27607
SUMMARY:Women&#8217;s Empowerment 2026 Tickets On Sale
UID:6604231--
END:VEVENT
END:VCALENDAR
