BEGIN:VCALENDAR
METHOD:PUBLISH
PRODID:Data::ICal 0.13
VERSION:2.0
BEGIN:VEVENT
DESCRIPTION:Tribute to Legends Earth, Wind and Fire and Motown Soul Coming to Booth Amphitheatre in Cary July 13th.\n[caption id=&quot;attachment_3882594&quot; align=&quot;aligncenter&quot; width=&quot;960&quot;] Source: In Gratitude / Platinum Photography[/caption]
DTSTAMP:20260421T115019Z
DTSTART;TZID=America/New_York:20210717T000000
DTEND;TZID=America/New_York:20210717T000000
LOCATION:8003 Regency Parkway\, Cary\, NC\, 27518
SUMMARY:In Gratitude: A tribute to Earth, Wind and Fire
UID:3882595-1626480000-1626480000
END:VEVENT
END:VCALENDAR
