BEGIN:VCALENDAR
METHOD:PUBLISH
PRODID:Data::ICal 0.13
VERSION:2.0
BEGIN:VEVENT
DESCRIPTION:Our Youth Matters presents Def Comedy Jam All-Star Reunion\n[caption id=&quot;attachment_3909952&quot; align=&quot;aligncenter&quot; width=&quot;600&quot;] Source: Our Youth Matters Organization / Our Youth Matters Organization[/caption]
DTSTAMP:20260419T134123Z
DTSTART;TZID=America/New_York:20210827T000000
DTEND;TZID=America/New_York:20210827T000000
LOCATION:421 S. Salisbury St.\, Raleigh\, NC\, 27601
SUMMARY:Def Comedy Jam All-Star Reunion
UID:3909953-1630022400-1630022400
END:VEVENT
END:VCALENDAR
