BEGIN:VCALENDAR
METHOD:PUBLISH
PRODID:Data::ICal 0.13
VERSION:2.0
BEGIN:VEVENT
DESCRIPTION:
DTSTAMP:20260424T112507Z
DTSTART;TZID=America/New_York:20180504T220000
DTEND;TZID=America/New_York:20180505T020000
LOCATION:400 N. West St.\, Raleigh\, NC\, 27603
SUMMARY:1st Class Fridays At W Social Club
UID:3592128-1525471200-1525485600
END:VEVENT
END:VCALENDAR
